BEGIN:VCALENDAR
VERSION:2.0
PRODID:-//Parton Manor Primary School - ECPv6.13.2.1//NONSGML v1.0//EN
CALSCALE:GREGORIAN
METHOD:PUBLISH
X-ORIGINAL-URL:https://partonmanorfed.co.uk
X-WR-CALDESC:Events for Parton Manor Primary School
REFRESH-INTERVAL;VALUE=DURATION:PT1H
X-Robots-Tag:noindex
X-PUBLISHED-TTL:PT1H
BEGIN:VTIMEZONE
TZID:UTC
BEGIN:STANDARD
TZOFFSETFROM:+0000
TZOFFSETTO:+0000
TZNAME:UTC
DTSTART:20190101T000000
END:STANDARD
END:VTIMEZONE
BEGIN:VEVENT
DTSTART;VALUE=DATE:20190617
DTEND;VALUE=DATE:20190622
DTSTAMP:20260420T133127
CREATED:20190405T140854Z
LAST-MODIFIED:20190405T140854Z
UID:933-1560729600-1561161599@partonmanorfed.co.uk
SUMMARY:Year 6 Residential to Kingswood
DESCRIPTION:
URL:https://partonmanorfed.co.uk/event/year-6-residential-to-kingswood/
CATEGORIES:Extra-Curricular,Junior School,Trips
END:VEVENT
BEGIN:VEVENT
DTSTART;VALUE=DATE:20190613
DTEND;VALUE=DATE:20190614
DTSTAMP:20260420T133127
CREATED:20190405T140807Z
LAST-MODIFIED:20190405T140807Z
UID:931-1560384000-1560470399@partonmanorfed.co.uk
SUMMARY:Choir Festival at CVJS
DESCRIPTION:
URL:https://partonmanorfed.co.uk/event/choir-festival-at-cvjs/
CATEGORIES:All school event,Extra-Curricular
END:VEVENT
END:VCALENDAR